BEGIN:VCALENDAR
VERSION:2.0
PRODID:-//eventon.com NONSGML v1.0//EN
CALSCALE:GREGORIAN
METHOD:PUBLISH
BEGIN:VEVENT
UID:69eb79f700e64
DTSTAMP:20260424T141103Z
DTSTART:20241128T083000Z
DTEND:20241129T163000Z
LOCATION:Paris 37-39 avenue Ledru-Rollin\,  75012 Paris\,  France
SUMMARY:LLM pour les développeurs
DESCRIPTION:Formation IA &#8211; LLM pour les développeurs Plus de détail
 s\nhttps://www.stat4decision.com/events/llm-pour-les-developpeurs/var/ri-3.
 l-L1
URL:https://www.stat4decision.com/events/llm-pour-les-developpeurs/var/ri-3.l-L1
END:VEVENT
END:VCALENDAR