BEGIN:VCALENDAR
VERSION:2.0
PRODID:-//eventon.com NONSGML v1.0//EN
CALSCALE:GREGORIAN
METHOD:PUBLISH
BEGIN:VEVENT
UID:69e50afd00001
DTSTAMP:20260419T170357Z
DTSTART:20220331T093000Z
DTEND:20220401T173000Z
LOCATION:Paris 37-39 avenue Ledru-Rollin\,  75012 Paris\,  France
SUMMARY:Développeur Qlik Sense
DESCRIPTION:Formation développeur du logiciel Qlik Sense. Plus de détails
  ici.\nhttps://www.stat4decision.com/events/developpeur-qlik-sense/var/ri-2
 .l-L1
URL:https://www.stat4decision.com/events/developpeur-qlik-sense/var/ri-2.l-L1
END:VEVENT
END:VCALENDAR