BEGIN:VCALENDAR
VERSION:2.0
PRODID:-//eventon.com NONSGML v1.0//EN
CALSCALE:GREGORIAN
METHOD:PUBLISH
BEGIN:VEVENT
UID:69e784071fb6e
DTSTAMP:20260421T140455Z
DTSTART:20231017T093000Z
DTEND:20231018T173000Z
LOCATION:Paris 37-39 avenue Ledru-Rollin\,  75012 Paris\,  France
SUMMARY:Datavisualisation
DESCRIPTION:Formation à la datavisualisation\,  l&rsquo;art de représente
 r les données. Plus de détails ici.\nhttps://www.stat4decision.com/events
 /datavisualisation/var/ri-6.l-L1
URL:https://www.stat4decision.com/events/datavisualisation/var/ri-6.l-L1
END:VEVENT
END:VCALENDAR