BEGIN:VCALENDAR
VERSION:2.0
PRODID:-//eventon.com NONSGML v1.0//EN
CALSCALE:GREGORIAN
METHOD:PUBLISH
BEGIN:VEVENT
UID:69e8d0109b18e
DTSTAMP:20260422T134136Z
DTSTART:20231019T203000Z
DTEND:20231021T043000Z
LOCATION:Paris 37-39 avenue Ledru-Rollin\,  75012 Paris\,  France
SUMMARY:Python pour utilisateur de SAS
DESCRIPTION:Formation aux fondamentaux de python pour utilisateurs de SAS. 
 Plus de détails ici.\nhttps://www.stat4decision.com/events/python-sas/var/
 ri-6.l-L1
URL:https://www.stat4decision.com/events/python-sas/var/ri-6.l-L1
END:VEVENT
END:VCALENDAR