BEGIN:VCALENDAR
VERSION:2.0
PRODID:-//eventon.com NONSGML v1.0//EN
CALSCALE:GREGORIAN
METHOD:PUBLISH
BEGIN:VEVENT
UID:69ec9af28fc58
DTSTAMP:20260425T104402Z
DTSTART:20210728
DTEND:20210729
LOCATION:Conférence virtuelle
SUMMARY:JuliaCon
DESCRIPTION:JuliaCon\nhttps://www.stat4decision.com/events/juliacon-2019/
URL:https://www.stat4decision.com/events/juliacon-2019/
END:VEVENT
END:VCALENDAR