BEGIN:VCALENDAR
VERSION:2.0
PRODID:-//eventon.com NONSGML v1.0//EN
CALSCALE:GREGORIAN
METHOD:PUBLISH
BEGIN:VEVENT
UID:69eaff5c6bfd2
DTSTAMP:20260424T052756Z
DTSTART:20231009T203000Z
DTEND:20231011T043000Z
LOCATION:Paris 37-39 avenue Ledru-Rollin\,  75012 Paris\,  France
SUMMARY:Microsoft Power BI Desktop - initiation
DESCRIPTION:En 2 jours\,  initiez-vous à l&rsquo;utilisation du nouvel out
 il de Microsoft pour la Business Intelligence : Microsoft Power BI Desktop.
  En savoir plus.\nhttps://www.stat4decision.com/events/microsoft-powerbi-de
 sktop/var/ri-28.l-L1
URL:https://www.stat4decision.com/events/microsoft-powerbi-desktop/var/ri-28.l-L1
END:VEVENT
END:VCALENDAR