BEGIN:VCALENDAR
VERSION:2.0
PRODID:-//eventon.com NONSGML v1.0//EN
CALSCALE:GREGORIAN
METHOD:PUBLISH
BEGIN:VEVENT
UID:69eb128579405
DTSTAMP:20260424T064941Z
DTSTART:20161017T200000Z
DTEND:20161019T040000Z
LOCATION:Paris 37-39 avenue Ledru-Rollin\,  75012 Paris\,  France
SUMMARY:Microsoft Power BI Desktop - initiation
DESCRIPTION:En 2 jours\,  initiez-vous à l&rsquo;utilisation du nouvel out
 il de Microsoft pour la Business Intelligence : Microsoft Power BI Desktop.
  En savoir plus.\nhttps://www.stat4decision.com/events/microsoft-powerbi-de
 sktop/
URL:https://www.stat4decision.com/events/microsoft-powerbi-desktop/
END:VEVENT
END:VCALENDAR