BEGIN:VCALENDAR
VERSION:2.0
PRODID:-//eventon.com NONSGML v1.0//EN
CALSCALE:GREGORIAN
METHOD:PUBLISH
BEGIN:VEVENT
UID:69e8968bbf2d4
DTSTAMP:20260422T093611Z
DTSTART:20230523
DTEND:20230524
LOCATION:Paris 37-39 avenue Ledru-Rollin\,  75012 Paris\,  France
SUMMARY:Séries temporelles avec R - introduction et modélisation
DESCRIPTION:Maîtrisez la modélisation des séries temporelles avec le lan
 gage R. En savoir plus.\nhttps://www.stat4decision.com/events/series-tempor
 elles-avec-r/var/ri-6.l-L1
URL:https://www.stat4decision.com/events/series-temporelles-avec-r/var/ri-6.l-L1
END:VEVENT
END:VCALENDAR